BEGIN:VCALENDAR
METHOD:PUBLISH
VERSION:2.0
PRODID:-//Eventilla iCal Syndication//NONSGML Liana//EN
BEGIN:VEVENT
UID:EGND3@eventilla.com
DTSTAMP:20260518T063000Z
DTSTART:20260518T063000Z
DTEND:20260522T150000Z
SUMMARY:ADR/RID Sikkerhedsrådgiver Grunduddannelse
LOCATION:Bureau Veritas Business Academy\, Oldenborggade 25-31\, 7000\,
 Fredericia\, Denmark
URL:http://kurser.bureauveritas.dk/event/EGND3
END:VEVENT
END:VCALENDAR
