BEGIN:VCALENDAR
METHOD:PUBLISH
VERSION:2.0
PRODID:-//Eventilla iCal Syndication//NONSGML Liana//EN
BEGIN:VEVENT
UID:LPMed@eventilla.com
DTSTAMP:20260908T063000Z
DTSTART:20260908T063000Z
DTEND:20260909T143000Z
SUMMARY:ADR-IMDG Uddannelse: Pakning\, læsning og dokumentation
LOCATION:Scandic Hotel, Hvidovre\, Kettevej 4\, 2650\, Hvidovre\, Denmark
URL:http://kurser.bureauveritas.dk/event/LPMed
END:VEVENT
END:VCALENDAR
