BEGIN:VCALENDAR
METHOD:PUBLISH
VERSION:2.0
PRODID:-//Eventilla iCal Syndication//NONSGML Liana//EN
BEGIN:VEVENT
UID:Oob9b@eventilla.com
DTSTAMP:20260421T063000Z
DTSTART:20260421T063000Z
DTEND:20260421T143000Z
SUMMARY:Grundlæggende miljølovgivning
LOCATION:Bureau Veritas Business Academy\, Oldenborggade 25-31\, 7000\,
 Fredericia\, Denmark
URL:http://kurser.bureauveritas.dk/event/Oob9b
END:VEVENT
END:VCALENDAR
