BEGIN:VCALENDAR
METHOD:PUBLISH
VERSION:2.0
PRODID:-//Eventilla iCal Syndication//NONSGML Liana//EN
BEGIN:VEVENT
UID:aoNQp@eventilla.com
DTSTAMP:20260923T063000Z
DTSTART:20260923T063000Z
DTEND:20260923T143000Z
SUMMARY:ADR Uddannelse: Kørsel i små mængder
LOCATION:Bureau Veritas Business Academy\, Oldenborggade 25-31\, 7000\,
 Fredericia\, Denmark
URL:http://kurser.bureauveritas.dk/event/aoNQp
END:VEVENT
END:VCALENDAR
