BEGIN:VCALENDAR
METHOD:PUBLISH
VERSION:2.0
PRODID:-//Eventilla iCal Syndication//NONSGML Liana//EN
BEGIN:VEVENT
UID:krJwd@eventilla.com
DTSTAMP:20260909T063000Z
DTSTART:20260909T063000Z
DTEND:20260910T143000Z
SUMMARY:ISO 45001 Intern Auditor
LOCATION:Haraldskær Sinatur Hotel & Konference\, Skibetvej 140\, 7100\,
 Vejle\, Denmark
URL:http://kurser.bureauveritas.dk/event/krJwd
END:VEVENT
END:VCALENDAR
