BEGIN:VCALENDAR
METHOD:PUBLISH
VERSION:2.0
PRODID:-//Eventilla iCal Syndication//NONSGML Liana//EN
BEGIN:VEVENT
UID:pJzk3@eventilla.com
DTSTAMP:20260909T063000Z
DTSTART:20260909T063000Z
DTEND:20260909T143000Z
SUMMARY:ADR Uddannelse: Kørsel i små mængder
LOCATION:Scandic Hotel, Hvidovre\, Kettevej 4\, 2650\, Hvidovre\, Denmark
URL:http://kurser.bureauveritas.dk/event/pJzk3
END:VEVENT
END:VCALENDAR
