BEGIN:VCALENDAR
METHOD:PUBLISH
VERSION:2.0
PRODID:-//Eventilla iCal Syndication//NONSGML Liana//EN
BEGIN:VEVENT
UID:y6lK9@eventilla.com
DTSTAMP:20261109T073000Z
DTSTART:20261109T073000Z
DTEND:20261113T160000Z
SUMMARY:ADR Sikkerhedsrådgiver Grunduddannelse
LOCATION:Bureau Veritas Business Academy\, Oldenborggade 25-31\, 7000\,
 Fredericia\, Denmark
URL:http://kurser.bureauveritas.dk/event/y6lK9
END:VEVENT
END:VCALENDAR
