BEGIN:VCALENDAR
METHOD:PUBLISH
VERSION:2.0
PRODID:-//Eventilla iCal Syndication//NONSGML Liana//EN
BEGIN:VEVENT
UID:y6o4X@eventilla.com
DTSTAMP:20260908T070000Z
DTSTART:20260908T070000Z
DTEND:20260908T140000Z
SUMMARY:ISO 27001 Inspirationsseminar (Online)
LOCATION:Online\, Denmark
URL:http://kurser.bureauveritas.dk/event/y6o4X
END:VEVENT
END:VCALENDAR
